BEGIN:VCALENDAR
VERSION:2.0
PRODID:-//Emmanuelle Mérat Cadet - ECPv6.2.3//NONSGML v1.0//EN
CALSCALE:GREGORIAN
METHOD:PUBLISH
X-ORIGINAL-URL:https://emmanuelle-mc.com
X-WR-CALDESC:évènements pour Emmanuelle Mérat Cadet
REFRESH-INTERVAL;VALUE=DURATION:PT1H
X-Robots-Tag:noindex
X-PUBLISHED-TTL:PT1H
BEGIN:VTIMEZONE
TZID:Europe/Paris
BEGIN:DAYLIGHT
TZOFFSETFROM:+0100
TZOFFSETTO:+0200
TZNAME:CEST
DTSTART:20260329T010000
END:DAYLIGHT
BEGIN:STANDARD
TZOFFSETFROM:+0200
TZOFFSETTO:+0100
TZNAME:CET
DTSTART:20261025T010000
END:STANDARD
END:VTIMEZONE
BEGIN:VEVENT
DTSTART;TZID=Europe/Paris:20260207T140000
DTEND;TZID=Europe/Paris:20260207T170000
DTSTAMP:20260424T180112
CREATED:20260129T144804Z
LAST-MODIFIED:20260129T144807Z
UID:1180-1770472800-1770483600@emmanuelle-mc.com
SUMMARY:Fresque de la biodiversité
DESCRIPTION:Fresquez pour la biodiversité !\nUn après-midi d’hiver bien animé\n			\n			\n				\n				\n				\n				\n			\n				\n				\n			\n				\n				\n				\n				\n				\n				\n				\n				\n				\n				\n				\n				\n				\n				\n				\n				\n				\n				Pourquoi une fresque de la biodiversité ?\nPour faire comprendre les enjeux et pressions autour de la biodiversité se basant sur le rapport de l’IPBES au travers d’un atelier ludique\, collaboratif\, visuel et accessible à tous. \nLe taux actuel d’extinction des espèces dans le monde est supérieur à la moyenne des 10 derniers millions d’années\, et ce taux s’accélère (IPBES 2019) \n\nComment se déroule la fresque : \n\n\n3 heures d’atelier\n• 20 minutes : comprendre les écosystèmes• 1 heure : 5 lots pour 39 cartes• 40 minutes : créativité + restitution• 1 heure : débrief de l’atelier\n\nPar groupe de 5 à 7 personnes\n\n5 modules\n• Définition de la biodiversité• Les services écosystémiques rendus• L’impact de l’Homme• Les 5 grandes pressions• Les conséquences\n\n\n\nDécouvrez au travers d’un atelier ludique et collaboratif l’aspect systémique de l’érosion de la biodiversité : ce qu’elle est\, ce qu’elle permet et ce qui la dégrade. \n\nÉquipement à prévoir : activité en intérieur \n\nVenir fresquer avec nous \n			\n			\n				\n				\n				\n				\n				\n				\n				\n				\n				\n				\n			\n			\n				\n				\n				\n				\n			\n				\n				\n			\n				\n				\n				\n				\n				\n				\n				\n				\n				\n				\n				\n				\n				\n			\n				\n				\n				\n				\n				\n				\n				\n				\n				\n				Email\nMe contacter \n			\n				\n				\n				\n				\n				\n					5\n					\n						\n						Partenariat avec Sébastien Illa de Capbéarvoile \n					\n				\n			\n				\n				\n				\n				\n				Réseaux\nLinkedInInstagram ProInstagram Perso \n			\n				\n				\n				\n				\n				Localisations\nFrance : Projets sur la Région Occitanie\, ateliers sur site de la forêt-jardin à Lautrec \nAntilles : actions Mangroves des Grenadines à Saint-Martin \n 
URL:https://emmanuelle-mc.com/evenement/fresque-de-la-biodiversite-2/
LOCATION:Symphony du Vivant Lautrec\, 8 Rue du Saint-Esprit\, Lautrec\, 81440\, France
ATTACH;FMTTYPE=image/png:https://emmanuelle-mc.com/wp-content/uploads/2026/01/Fresque-biodiversite-fevrier-2026-Lautrec.png
ORGANIZER;CN="Symphony Du Vivant - Emmanuelle M%C3%A9rat Cadet":MAILTO:emmanuelle.merat@gmail.com
END:VEVENT
END:VCALENDAR